BEGIN:VCALENDAR
VERSION:2.0
PRODID:-//Weingut Christmann - ECPv6.15.20//NONSGML v1.0//EN
CALSCALE:GREGORIAN
METHOD:PUBLISH
X-WR-CALNAME:Weingut Christmann
X-ORIGINAL-URL:https://landhaus-christmann.de
X-WR-CALDESC:Veranstaltungen für Weingut Christmann
REFRESH-INTERVAL;VALUE=DURATION:PT1H
X-Robots-Tag:noindex
X-PUBLISHED-TTL:PT1H
BEGIN:VTIMEZONE
TZID:Europe/Berlin
BEGIN:DAYLIGHT
TZOFFSETFROM:+0100
TZOFFSETTO:+0200
TZNAME:CEST
DTSTART:20250330T010000
END:DAYLIGHT
BEGIN:STANDARD
TZOFFSETFROM:+0200
TZOFFSETTO:+0100
TZNAME:CET
DTSTART:20251026T010000
END:STANDARD
BEGIN:DAYLIGHT
TZOFFSETFROM:+0100
TZOFFSETTO:+0200
TZNAME:CEST
DTSTART:20260329T010000
END:DAYLIGHT
BEGIN:STANDARD
TZOFFSETFROM:+0200
TZOFFSETTO:+0100
TZNAME:CET
DTSTART:20261025T010000
END:STANDARD
BEGIN:DAYLIGHT
TZOFFSETFROM:+0100
TZOFFSETTO:+0200
TZNAME:CEST
DTSTART:20270328T010000
END:DAYLIGHT
BEGIN:STANDARD
TZOFFSETFROM:+0200
TZOFFSETTO:+0100
TZNAME:CET
DTSTART:20271031T010000
END:STANDARD
END:VTIMEZONE
BEGIN:VEVENT
DTSTART;TZID=Europe/Berlin:20260117T100000
DTEND;TZID=Europe/Berlin:20260117T170000
DTSTAMP:20260424T215040
CREATED:20250107T082915Z
LAST-MODIFIED:20260108T173152Z
UID:3783-1768644000-1768669200@landhaus-christmann.de
SUMMARY:Schlachtfest by Christmann 17.01.2026 *AUSGEBUCHT*
DESCRIPTION:Das Landhaus Christmann lädt Sie herzlich zu einem besonderen Schlachtbuffet ein \nam 17. Januar 2026\, von 10:00 bis 17:00 Uhr. \nFreuen Sie sich auf eine exquisite Auswahl herzhafter Spezialitäten: von frischen Wurst- und Fleischvariationen bis hin zu köstlichen Beilagen – für jeden Geschmack ist etwas dabei. \nBuffetzeiten: 11:00 bis 14:00 UhrPreis: 16\,50 € pro Person \nZur Abrundung des Genusses bieten wir Ihnen eine erlesene Auswahl unserer Weine sowie hauseigene Brände und Liköre. \nVerbringen Sie einen wunderbaren Tag in der einladenden Weinhalle des Landhauses Christmann. \nUm einen reibungslosen Ablauf und ausreichend Platz für alle Gäste zu gewährleisten\, bitten wir um Ihre \nReservierung bis zum 11. Januar 2026 unter: \n📧 ticket@landhaus-christmann.de \nHerzlichst\,Ihre Familie Christmann
URL:https://landhaus-christmann.de/event/schlachtfest-by-christmann-2026/
LOCATION:Landhaus Christmann\, Riedweg 1\, St. Martin\, Pfalz\, 67487\, Deutschland
CATEGORIES:Weinfest
ATTACH;FMTTYPE=image/jpeg:https://landhaus-christmann.de/wp-content/uploads/2025/01/Schlachtfest-by-Christmann_Adresse.jpg
END:VEVENT
END:VCALENDAR