BEGIN:VCALENDAR
VERSION:2.0
PRODID:-//Weingut Christmann - ECPv6.15.20//NONSGML v1.0//EN
CALSCALE:GREGORIAN
METHOD:PUBLISH
X-ORIGINAL-URL:https://landhaus-christmann.de
X-WR-CALDESC:Veranstaltungen für Weingut Christmann
REFRESH-INTERVAL;VALUE=DURATION:PT1H
X-Robots-Tag:noindex
X-PUBLISHED-TTL:PT1H
BEGIN:VTIMEZONE
TZID:Europe/Berlin
BEGIN:DAYLIGHT
TZOFFSETFROM:+0100
TZOFFSETTO:+0200
TZNAME:CEST
DTSTART:20240331T010000
END:DAYLIGHT
BEGIN:STANDARD
TZOFFSETFROM:+0200
TZOFFSETTO:+0100
TZNAME:CET
DTSTART:20241027T010000
END:STANDARD
BEGIN:DAYLIGHT
TZOFFSETFROM:+0100
TZOFFSETTO:+0200
TZNAME:CEST
DTSTART:20250330T010000
END:DAYLIGHT
BEGIN:STANDARD
TZOFFSETFROM:+0200
TZOFFSETTO:+0100
TZNAME:CET
DTSTART:20251026T010000
END:STANDARD
BEGIN:DAYLIGHT
TZOFFSETFROM:+0100
TZOFFSETTO:+0200
TZNAME:CEST
DTSTART:20260329T010000
END:DAYLIGHT
BEGIN:STANDARD
TZOFFSETFROM:+0200
TZOFFSETTO:+0100
TZNAME:CET
DTSTART:20261025T010000
END:STANDARD
END:VTIMEZONE
BEGIN:VEVENT
DTSTART;TZID=Europe/Berlin:20251107T190000
DTEND;TZID=Europe/Berlin:20251109T233000
DTSTAMP:20260420T015334
CREATED:20240111T205015Z
LAST-MODIFIED:20250825T173938Z
UID:3239-1762542000-1762731000@landhaus-christmann.de
SUMMARY:Martinus Weinfest 2025
DESCRIPTION:Das Martinus Weinfest schließt die Weinfestsaison in der Pfalz. \nEs wird immer im November zu ehren des Schutzpatrons des Ortes – dem heiligen Martin von Tours – gefeiert. \nVon \nFreitag 7.11. bis Sonntag 09.11.2025 \nöffnen neun Ausschankstellen im Ortskern ihre Tore. \nRahmenprogramm: \nFreitag 07.11. // 19 Uhr  \nEröffnung des Weinfestes vor der Alten Kellerei\, Kellereistraße. \n1. Anstich des Festweines durch den Ortsbürgermeister Timo Glaser & die amtierende St. Martiner Weinprinzessin. \nMusik von der KAB Blaskapelle und Festrede des „St. Martin“ als Bischof von Tours. \nSamstag 08.11. // ab 13:30 Uhr Martinslauf  \n13:30 Uhr Straßenlauf der Schüler/ Jugend\n14:00 Uhr Hauptlauf (Anmeldung 11:30 – 13:30 Uhr in der Alten Kellerei)\nca. 15:30 Uhr Siegerehrung an der Alten Kellerei \nAn allen Festtagen\, Weinfeststimmung in den Ausschankstellen und Gaststätten\n \nAusschankende: Freitag – Sonntag \n00:00 Uhr Musikende – 01:00 Uhr Veranstaltungsende \nInfos zur An- und Abreise erhalten Sie unter \nhttps://stmartin.suedlicheweinstrasse.de/service/anreise-/-oepnv
URL:https://landhaus-christmann.de/event/martinus-weinfest-2024/
LOCATION:Kulturscheune Alte Kellerei – Kellereistr. 1 St. Martin\, 67487 Deutschland\, Kulturscheune Alte Kellerei - Kellereistr. 1 St. Martin\, 67487 Deutschland\, St. Martin\, Rheinland-Pfalz\, 67487\, Deutschland
CATEGORIES:Weinfest
ATTACH;FMTTYPE=image/jpeg:https://landhaus-christmann.de/wp-content/uploads/2024/01/Martinusweinfest.jpg
ORGANIZER;CN="St. Martin":MAILTO:tourismus@sankt-martin.de
END:VEVENT
END:VCALENDAR