BEGIN:VCALENDAR
VERSION:2.0
PRODID:-//Weingut Christmann - ECPv6.15.20//NONSGML v1.0//EN
CALSCALE:GREGORIAN
METHOD:PUBLISH
X-WR-CALNAME:Weingut Christmann
X-ORIGINAL-URL:https://landhaus-christmann.de
X-WR-CALDESC:Veranstaltungen für Weingut Christmann
REFRESH-INTERVAL;VALUE=DURATION:PT1H
X-Robots-Tag:noindex
X-PUBLISHED-TTL:PT1H
BEGIN:VTIMEZONE
TZID:Europe/Berlin
BEGIN:DAYLIGHT
TZOFFSETFROM:+0100
TZOFFSETTO:+0200
TZNAME:CEST
DTSTART:20250330T010000
END:DAYLIGHT
BEGIN:STANDARD
TZOFFSETFROM:+0200
TZOFFSETTO:+0100
TZNAME:CET
DTSTART:20251026T010000
END:STANDARD
BEGIN:DAYLIGHT
TZOFFSETFROM:+0100
TZOFFSETTO:+0200
TZNAME:CEST
DTSTART:20260329T010000
END:DAYLIGHT
BEGIN:STANDARD
TZOFFSETFROM:+0200
TZOFFSETTO:+0100
TZNAME:CET
DTSTART:20261025T010000
END:STANDARD
BEGIN:DAYLIGHT
TZOFFSETFROM:+0100
TZOFFSETTO:+0200
TZNAME:CEST
DTSTART:20270328T010000
END:DAYLIGHT
BEGIN:STANDARD
TZOFFSETFROM:+0200
TZOFFSETTO:+0100
TZNAME:CET
DTSTART:20271031T010000
END:STANDARD
END:VTIMEZONE
BEGIN:VEVENT
DTSTART;TZID=Europe/Berlin:20261205T170000
DTEND;TZID=Europe/Berlin:20261205T220000
DTSTAMP:20260419T212127
CREATED:20251202T142854Z
LAST-MODIFIED:20251208T085231Z
UID:4159-1796490000-1796508000@landhaus-christmann.de
SUMMARY:Weihnachten auf Achse
DESCRIPTION:Weihnachten auf Achse\nAm 05. Dezember 2026 ab 17:00 Uhr lädt das Landhaus Christmann in St. Martin zu einem stimmungsvollen Adventsabend ein. \nFreu dich auf festlich geschmückte Fahrzeuge\, gemütliches Beisammensein und winterliche Leckereien. \nBei Glühwein\, Punsch\, Schorle und Bratwurst kannst du den Start in die Weihnachtszeit in warmem Lichterglanz genießen. \nEin Abend voller Atmosphäre – für Groß und Klein! \nWeitere Informationen unter: \nwww.weihnachten-auf-achse.de
URL:https://landhaus-christmann.de/event/weihnachten-auf-achse/
LOCATION:Landhaus Christmann\, Riedweg 1\, St. Martin\, Pfalz\, 67487\, Deutschland
CATEGORIES:Weihnachtsmarkt
ATTACH;FMTTYPE=image/jpeg:https://landhaus-christmann.de/wp-content/uploads/2025/12/Weihnachten_auf_Achse_26.jpg
END:VEVENT
END:VCALENDAR