BEGIN:VCALENDAR
VERSION:2.0
PRODID:-//Weingut Christmann - ECPv6.15.20//NONSGML v1.0//EN
CALSCALE:GREGORIAN
METHOD:PUBLISH
X-ORIGINAL-URL:https://landhaus-christmann.de
X-WR-CALDESC:Veranstaltungen für Weingut Christmann
REFRESH-INTERVAL;VALUE=DURATION:PT1H
X-Robots-Tag:noindex
X-PUBLISHED-TTL:PT1H
BEGIN:VTIMEZONE
TZID:Europe/Berlin
BEGIN:DAYLIGHT
TZOFFSETFROM:+0100
TZOFFSETTO:+0200
TZNAME:CEST
DTSTART:20230326T010000
END:DAYLIGHT
BEGIN:STANDARD
TZOFFSETFROM:+0200
TZOFFSETTO:+0100
TZNAME:CET
DTSTART:20231029T010000
END:STANDARD
BEGIN:DAYLIGHT
TZOFFSETFROM:+0100
TZOFFSETTO:+0200
TZNAME:CEST
DTSTART:20240331T010000
END:DAYLIGHT
BEGIN:STANDARD
TZOFFSETFROM:+0200
TZOFFSETTO:+0100
TZNAME:CET
DTSTART:20241027T010000
END:STANDARD
BEGIN:DAYLIGHT
TZOFFSETFROM:+0100
TZOFFSETTO:+0200
TZNAME:CEST
DTSTART:20250330T010000
END:DAYLIGHT
BEGIN:STANDARD
TZOFFSETFROM:+0200
TZOFFSETTO:+0100
TZNAME:CET
DTSTART:20251026T010000
END:STANDARD
END:VTIMEZONE
BEGIN:VEVENT
DTSTART;TZID=Europe/Berlin:20240501T110000
DTEND;TZID=Europe/Berlin:20240501T220000
DTSTAMP:20260419T211742
CREATED:20220311T103048Z
LAST-MODIFIED:20240116T151056Z
UID:1482-1714561200-1714600800@landhaus-christmann.de
SUMMARY:Jahrgangspräsentation
DESCRIPTION:Der FRÜHLING steht vor der Tür!\n\nJahrgangspräsentation\nLandhaus Christmann / Weingut & Brennerei Christmann\n\nDie Jahrgangspräsentation stellt eine ideale Gelegenheit dar unsere neuen „2023er“ Weine\nin entspannter & lockerer Hofatmosphäre kennen zu lernen.\n\nDamit Sie alle Weine probieren können\,\ngibt es ausgewählte lukullische Leckereien unseres Hauses zur Stärkung.\nEs werden regionale Aussteller Ihre Produkte anbieten.\n\nBei Gefallen können Sie diese natürlich auch glas- oder flaschenweise den ganzen Tag über erwerben.\n\n*** Eintritt kostenlos ***\n*** Probepass 10\,00€ ***\n\n01.05.2024\nMittwoch ab 11:00-22:00 Uhr
URL:https://landhaus-christmann.de/event/fruehlingserwachen-jahrgangspraesentation/
LOCATION:Landhaus Christmann\, Riedweg 1\, St. Martin\, Pfalz\, 67487\, Deutschland
CATEGORIES:Weinprobe
ATTACH;FMTTYPE=image/jpeg:https://landhaus-christmann.de/wp-content/uploads/2022/03/Fruehlingserwachen.jpg
ORGANIZER;CN="Weingut & Brennerei Christmann":MAILTO:ticket@landhaus-christmann.de
END:VEVENT
END:VCALENDAR