BEGIN:VCALENDAR
VERSION:2.0
PRODID:-//Weingut Christmann - ECPv6.15.20//NONSGML v1.0//EN
CALSCALE:GREGORIAN
METHOD:PUBLISH
X-WR-CALNAME:Weingut Christmann
X-ORIGINAL-URL:https://landhaus-christmann.de
X-WR-CALDESC:Veranstaltungen für Weingut Christmann
REFRESH-INTERVAL;VALUE=DURATION:PT1H
X-Robots-Tag:noindex
X-PUBLISHED-TTL:PT1H
BEGIN:VTIMEZONE
TZID:Europe/Berlin
BEGIN:DAYLIGHT
TZOFFSETFROM:+0100
TZOFFSETTO:+0200
TZNAME:CEST
DTSTART:20210328T010000
END:DAYLIGHT
BEGIN:STANDARD
TZOFFSETFROM:+0200
TZOFFSETTO:+0100
TZNAME:CET
DTSTART:20211031T010000
END:STANDARD
BEGIN:DAYLIGHT
TZOFFSETFROM:+0100
TZOFFSETTO:+0200
TZNAME:CEST
DTSTART:20220327T010000
END:DAYLIGHT
BEGIN:STANDARD
TZOFFSETFROM:+0200
TZOFFSETTO:+0100
TZNAME:CET
DTSTART:20221030T010000
END:STANDARD
BEGIN:DAYLIGHT
TZOFFSETFROM:+0100
TZOFFSETTO:+0200
TZNAME:CEST
DTSTART:20230326T010000
END:DAYLIGHT
BEGIN:STANDARD
TZOFFSETFROM:+0200
TZOFFSETTO:+0100
TZNAME:CET
DTSTART:20231029T010000
END:STANDARD
END:VTIMEZONE
BEGIN:VTIMEZONE
TZID:UTC
BEGIN:STANDARD
TZOFFSETFROM:+0000
TZOFFSETTO:+0000
TZNAME:UTC
DTSTART:20210101T000000
END:STANDARD
END:VTIMEZONE
BEGIN:VEVENT
DTSTART;TZID=Europe/Berlin:20221102T183000
DTEND;TZID=Europe/Berlin:20221102T230000
DTSTAMP:20260424T123406
CREATED:20221007T093201Z
LAST-MODIFIED:20221007T093325Z
UID:1760-1667413800-1667430000@landhaus-christmann.de
SUMMARY:Weinschmitts Kulinarische Weltreise
DESCRIPTION:Weinschmitts Kulinarische Weltreise \nEine Dinner- und Leseshow: Exotisch\, pfälzisch\, sinnenfroh. \nWenn einer eine Reise tut\, dann kann er was erzählen… Und wenn zwei Pfälzer Jahre lang mit dem Fahrrad alle Herren Länder bereist haben\, dann können sie noch viel mehr: Etwas von der Kultur und vom Flair\, von den Menschen\, von der Landschaft und vor allem von den kulinarischen Verlockungen dieser Länder berichten und zeigen. \nWir\, Elke Weinsheimer und Louis Schmitt\, bekannt aus der erfolgreichen Serie „Weinschmitts\, wollen euch mitnehmen auf eine kulinarische Erdumrundung. Einfach einsteigen und genießen.  Ein paar faszinierende Stunden für alle Sinne! Denn wir haben in aller Welt in Kochtöpfe geschaut und praktische lukullische Erfahrungen gesammelt. Wo immer dies möglich war\, haben wir Winzer besucht und viele hundert Weine probiert. \nAll unser Wissen haben wir nun in ein informatives\, unterhaltsames und genussreiches Buch zusammengestellt. \nFür die Augen: \nEine spektakuläre\, computergestützte Digitalprojektion mit brillanten Bildern der schönsten und aufregendsten Motive aus mehr als 40.000 Aufnahmen\, die während der Reise entstanden sind. \nFür die Ohren: \nIndividuelle Informationen über die Reiseländer und vor allem hautnahe Geschichten von unterwegs\, von exotischen\, spannenden und entspannenden Erlebnissen und vom Zusammentreffen mit interessanten Menschen. Tauchen Sie ein in eine andere\, phantastische Welt mit passender Musik. \nFür den Geschmack: \nSensationelle Menüs mit drei oder mehr Gängen\, gekocht von uns nach den Originalrezepten aus den Herkunftsländern.  Diese Rezepte haben wir in fernen Ländern gesammelt und vor Ort ausprobiert. Jetzt werden sie für Euren Gaumen nach Deutschland importiert. \nZur Abrundung: \nMit Spitzenwinzern aus St Martin als Partner: Wein- und Sekthaus Alois Kiefer\, Weingut Egidiushof\, Weingut Alfons Ziegler\, Weingut Alfons Hormuth\, Weingut Gilda Moll\, Weingut Schreieck\, Weingut & Brennerei Christmann\, Herrengut St. Martin\, das Bio-Weingut Winfried Seeber sowie Becker‘s Wein- und Sekthaus werden diese exotischen und ungewöhnlichen Menüs zum besonderen Genuss: Pfälzer Wein als Abrundung zur authentischen internationalen Küche. Das hat einen besonderen Reiz und ermöglicht spannende und harmonische Kombinationen\, es eröffnet ganz neue Geschmackserlebnisse. \nFür das Gefühl: \nAuch wenn es mitunter aufregend\, gefährlich und anstrengend war: Für Elke und mich sind bei diesen Reisen viele Träume wahr geworden. Nun laden wir Sie ein\, mit uns zu träumen und etwas von der Begeisterung beim Entdecken der Welt zu spüren – einfach mit Leib und Seele dabei zu sein. \nTermine:                         Mittwoch\, 02. November und Mittwoch\, 16. November 2022 19:00 Uhr (Einlass ab 18:30 Uhr) \nVeranstaltungsort:    Kulturscheune St. Martin\, Kellereistraße 1 \nKosten:                             59\,00 € pro Person (inkl. 4-Gänge-Menü\, begleitende Weine und Wasser) \nPlatzreservierung:     Tourist-Info St. Martin\, Tel. 06323-5300\, tourismus@sankt-martin.de \noder Weinschmitt@gmx.de
URL:https://landhaus-christmann.de/event/weinschmitts-kulinarische-weltreise/
LOCATION:Kulturscheune Alte Kellerei – Kellereistr. 1 St. Martin\, 67487 Deutschland\, Kulturscheune Alte Kellerei - Kellereistr. 1 St. Martin\, 67487 Deutschland\, St. Martin\, Rheinland-Pfalz\, 67487\, Deutschland
CATEGORIES:Kulinarische Weinprobe
ATTACH;FMTTYPE=image/webp:https://landhaus-christmann.de/wp-content/uploads/2022/10/Weinschmitt.webp
END:VEVENT
BEGIN:VEVENT
DTSTART;TZID=UTC:20221118T193000
DTEND;TZID=UTC:20221118T210000
DTSTAMP:20260424T123406
CREATED:20221108T105521Z
LAST-MODIFIED:20221108T105521Z
UID:1928-1668799800-1668805200@landhaus-christmann.de
SUMMARY:Online Weinprobe
DESCRIPTION:Endlich ist es soweit! Unsere nächste Online Weinprobe steht wieder an. Am Freitag\, den 18. November 2022\, haben wir Philipp vom Weingut Christmann bei uns in Bochum zu Gast. \nWir werden die Online-Weinprobe live aus unserem Pop-Up-Store in der Bochumer Innenstadt streamen\, sodass ihr alle einen kleinen Einblick in unsere Weinerlebniswelt erhaschen könnt. \nDas Familienweingut Christmann befindet sich inmitten der malerischen Weinberge von Sankt Martin an der Weinstraße in der Pfalz. Mit dem Anspruch\, Weine für die schönen Momente im Alltag als auch zu besonderen Anlässen zu produzieren\, ist die Familie seit 1616 erfolgreich. Dabei legen sie in der Produktion ihrer Weine stets viel Wert auf Sortenreinheit\, Reife & Bukett. Der Qualitätsanspruch spiegelt sich hervorragend in ihren Weinen wider\, die seit dem Jahr 2021 außerdem durchweg vegan hergestellt werden. \nPhilipp bringt uns 4 köstliche Weine mit: Wir starten mit einem spritzigen Secco aus der Prosecco-Traube Glera. Im Anschluss kosten wir einen eleganten Blanc de Noir Weißwein sowie einen feinfruchtigen Pinot Blanc. Den Abend abrunden wird ein saftiger Pinot Noir Rotwein\, der sich perfekt für die anstehenden grauen Wintertage auf der Couch eignet. \nDiese Weine erwarten euch bei der Weinprobe: \n\nSecco feinherb\nPinot Blanc\nBlanc de Noir\nPinot Noir \n\nAlle Wein enthalten Sulfite.\n___________________________________________________________________ \nIhr werdet dem Event\, das live aus unserem Ladenlokal gestreamt wird\, zugeschaltet. Somit bekommt ihr die Möglichkeit\, einen informativen und schönen Abend im Kreis gleichgesinnter Weinliebhaber:innen zu verbringen. \nDie Weine bestellt ihr vorab bei uns. Lasst sie zu euch nach Hause liefern oder holt sie gerne auch selbst in Bochum ab. Die Weinpakete sind pro Haushalt gültig und für 29€ (ggf. zzgl. 8\,00 € Versand) erhältlich. \nEine Bestellung mit Lieferung nach Hause ist bis zum 13.11.2022 um 23:59 Uhr möglich. Die Selbstabholer:innen können bis zum 17.11.2022 um 23:59 Uhr bestellen (nur solange der Vorrat reicht). \nDie Weinpakete könnt ihr am 17.11.2022 von 14 bis 19 Uhr und am 18.02.2022 von 11 bis 18 Uhr in unserem Pop-Up-Store in der Bochumer Innenstadt abholen (Kortumstraße 120/Ecke Brückstraße). \nUnsere Online-Weinprobe wird über Zoom* veranstaltet. Zoom ist eine kostenlose Online-Meeting-Software. \nHier geht´s direkt zur Bestellseite: \nhttps://weine-vor-freude.de/products/online-weinprobe-weingut-christmann
URL:https://landhaus-christmann.de/event/online-weinprobe/
CATEGORIES:Online Weinprobe
ATTACH;FMTTYPE=image/webp:https://landhaus-christmann.de/wp-content/uploads/2022/11/Produktbild_Christmann_2048x.webp
END:VEVENT
END:VCALENDAR